BEGIN:VCALENDAR
VERSION:2.0
PRODID:-//Tantra y Amor Consciente - ECPv6.3.7//NONSGML v1.0//EN
CALSCALE:GREGORIAN
METHOD:PUBLISH
X-ORIGINAL-URL:https://tantrayamorconsciente.com
X-WR-CALDESC:Eventos para Tantra y Amor Consciente
REFRESH-INTERVAL;VALUE=DURATION:PT1H
X-Robots-Tag:noindex
X-PUBLISHED-TTL:PT1H
BEGIN:VTIMEZONE
TZID:Europe/Madrid
BEGIN:DAYLIGHT
TZOFFSETFROM:+0100
TZOFFSETTO:+0200
TZNAME:CEST
DTSTART:20250330T010000
END:DAYLIGHT
BEGIN:STANDARD
TZOFFSETFROM:+0200
TZOFFSETTO:+0100
TZNAME:CET
DTSTART:20251026T010000
END:STANDARD
END:VTIMEZONE
BEGIN:VEVENT
DTSTART;TZID=Europe/Madrid:20250312T203000
DTEND;TZID=Europe/Madrid:20250312T213000
DTSTAMP:20260424T112104
CREATED:20250110T130942Z
LAST-MODIFIED:20250110T174728Z
UID:66857-1741811400-1741815000@tantrayamorconsciente.com
SUMMARY:WEBINAR: BRAHMACHARYA\, LA GESTIÓN SABIA DE LA ENERGÍA SEXUAL - 12 MARZO ONLINE
DESCRIPTION:WEBINAR GRATUITO: BRAHMACHARYA\, LA GESTIÓN SABIA DE LA ENERGÍA SEXUAL\nWEBINAR GRATUITO: BRAHMACHARYA\, LA GESTIÓN SABIA DE LA ENERGÍA SEXUAL\n																										 \nEn este Webinar\, Hari Dass te enseñará gracias a su largo recorrido de estudio y experiencia en los caminos del tantra tradicional\, hatha yoga\, taoísmo\, neotantra y budismo\, que es el concepto de Brahmacharya y el sabio manejo o gestión de tu energía sexual. \n																										 \nAprenderás\, cuál es el potencial del uso consciente de tu energía sexual\, para la transformación de tu vida a nivel sexual\, tus relaciones\, tu psique y tu consciencia. \n																										 \nEntenderás\, cuáles son las diferencias entre los diferentes talleres que ofrecemos. Además\, podrás preguntar lo que quieras sobre el Tantra\, la sexualidad\, las relaciones y los talleres de Tantra. \n																										 \nEn este Webinar\, Hari Dass te enseñará gracias a su largo recorrido de estudio y experiencia en los caminos del tantra tradicional\, hatha yoga\, taoísmo\, neotantra y budismo\, que es el concepto de Brahmacharya y el sabio manejo o gestión de tu energía sexual. \n													\n		Aprenderás\, cuál es el potencial del uso consciente de tu energía sexual\, para la transformación de tu vida a nivel sexual\, tus relaciones\, tu psique y tu consciencia.\n													\n		Entenderás\, cuáles son las diferencias entre los diferentes talleres que ofrecemos. Además\, podrás preguntar lo que quieras sobre el Tantra\, la sexualidad\, las relaciones y los talleres de Tantra. \nIMPARTE \nHari Dass \n			\n									Currículum\n					\n																										 \nHari Dass ofrece unas enseñanzas exquisitas que te facilitan la experiencia de viviruna sexualidad más sana\, amorosa\, consciente\, auténtica\, respetuosa y extática. \nIMPARTE \nHari Dass \n													\n			\n									Currículum\n					 \nHari Dass ofrece unas enseñanzas exquisitas que te facilitan la experiencia de vivir una sexualidad más sana\, amorosa\, consciente\, auténtica\, respetuosa y extática. \n								 \n\n							Fecha\n					\n\n						ONLINE\n12 de marzo					 \n								 \n\n							HORARIO\n					\n\n						20:30 hrs (España)					 \n				\n								 \n\n						\n							RESERVAR ENTRADA						\n					\n\n						Si no puedes verlo en directo\, se teenviará un enlace de descarga.					 \nMÁS INFORMACIÓN /INSCRIPCIONES\nSilvia OliverasTeléfono: +34 697 738 177Horario de atención telefónica: de lunes a viernes de 9 a 17h.Email: silvia@tantrayamorconsciente.com \nMÁS INFORMACIÓN /INSCRIPCIONES\nSilvia Oliveras \nTeléfono:+34 697 738 177 \nHorario de atención telefónica:de lunes a viernes de 9 a 17h. \nEmail:silvia@tantrayamorconsciente.com \n\n\n  \n\n\n\n\n\n\n\n\n\n\n\n\n	INVITA A UN@ AMIG@\n	 \n	Solo tienes que rellenar este pequeño formulario.\n	 \n	\n		\n		 \n		\n		 \n		\n		 \n	\n	\n		\n		 \n		\n		 \n	\n\n\n\n\nEstos cursos están diseñados para proporcionar información sobre el Tantra Yoga y la Sexualidad Sagrada enseñado por Tantra y Amor Consciente®\nAl tomar estos Talleres\, es importante entender que sus profesores y ayudantes no se dedican a la prestación de servicios profesionales médicos o psicológicos. En caso de requerir asistencia médica o de otro experto\, por favor busque los servicios de un profesional. \nDado que todas las actividades son opcionales y voluntarias\, no nos responsabilizamos con respecto a cualquier pérdida o daño causado directa o indirectamente por la información o la asistencia a estos cursos. Por lo tanto es crucial tener en cuenta que todos los participantes asumen responsabilidad de sus acciones. \nSi tienes preguntas\, no dudes en revisar las Preguntas frecuentes para obtener más información.  \nEstos cursos están diseñados para proporcionar\n información sobre el Tantra Yoga y la Sexualidad \nSagrada enseñado por Tantra y Amor Consciente®\nAl tomar estos Talleres\, es importante entender que sus profesores y ayudantes no se dedican a la prestación de servicios profesionales médicos o psicológicos. En caso de requerir asistencia médica o de otro experto\, por favor busque los servicios de un profesional. \nDado que todas las actividades son opcionales y voluntarias\, no nos responsabilizamos con respecto a cualquier pérdida o daño causado directa o indirectamente por la información o la asistencia a estos cursos. Por lo tanto es crucial tener en cuenta que todos los participantes asumen responsabilidad de sus acciones. \nSi tienes preguntas\, no dudes en revisar las Preguntas frecuentes para obtener más información. 
URL:https://tantrayamorconsciente.com/calendario-de-taller-cursos-y-formaciones-de-tantra/webinar-brahmacharya-la-gestion-sabia-de-la-energia-sexual-12-marzo-online/
LOCATION:Online en España.\, s/n\, Torrelles de Foix\, Barcelona\, 08737
CATEGORIES:Taller de Tantra Online
ATTACH;FMTTYPE=image/jpeg:https://tantrayamorconsciente.com/wp-content/uploads/2024/09/Hari-Dass.jpg
ORGANIZER;CN="Silvia Oliveras":MAILTO:silvia@tantrayamorconsciente.com
END:VEVENT
END:VCALENDAR