BEGIN:VCALENDAR
VERSION:2.0
PRODID:-//Tantra y Amor Consciente - ECPv6.3.7//NONSGML v1.0//EN
CALSCALE:GREGORIAN
METHOD:PUBLISH
X-ORIGINAL-URL:https://tantrayamorconsciente.com
X-WR-CALDESC:Eventos para Tantra y Amor Consciente
REFRESH-INTERVAL;VALUE=DURATION:PT1H
X-Robots-Tag:noindex
X-PUBLISHED-TTL:PT1H
BEGIN:VTIMEZONE
TZID:Europe/Madrid
BEGIN:DAYLIGHT
TZOFFSETFROM:+0100
TZOFFSETTO:+0200
TZNAME:CEST
DTSTART:20230326T010000
END:DAYLIGHT
BEGIN:STANDARD
TZOFFSETFROM:+0200
TZOFFSETTO:+0100
TZNAME:CET
DTSTART:20231029T010000
END:STANDARD
END:VTIMEZONE
BEGIN:VEVENT
DTSTART;TZID=Europe/Madrid:20230218T100000
DTEND;TZID=Europe/Madrid:20230219T180000
DTSTAMP:20260422T003147
CREATED:20220908T163445Z
LAST-MODIFIED:20230102T181256Z
UID:44704-1676714400-1676829600@tantrayamorconsciente.com
SUMMARY:FORMACIÓN DE TANTRA – Personal y/o profesional. 18 y 19 de febrero en Barcelona
DESCRIPTION:MEDITACIÓN DEL FUEGO PURIFICADOR		\n				\n				\n				\n					\n			\n		\n				\n				\n				\n				\n							Vijñana Bhairava Tantra Shloka 52. Dhāraṇā 29 						\n				\n				\n				\n							कालाग्निना कालपदाद् उत्थितेन स्वकम् पुरम्।प्लुष्टम् विचिन्तयेद् अन्ते शान्ताभासस् तदा भवेत्॥ ५२॥ 						\n				\n				\n				\n							Kalagnina kalapadad utthitena svakam puram – Plushtam vichintayed ante shantabhásas tada bhavet Literalmente: «Mi cuerpo es quemado por el Fuego de Kalágni que se eleva desde el dedo gordo de mi pie derecho\, ascendiendo hacia arriba. Él/ella experimentará su naturaleza (real) que es todo paz\, quietud” Hemos encontrado esta meditación en dos textos tántricos tradicionales: El Kaula Jñana Nirnaya (Patala 2) y en el Vijñana Bhairava Tantra. 						\n				\n				\n				\n			LA MEDITACIÓN:		\n				\n				\n				\n					\n			\n		\n				\n				\n				\n				\n							Túmbate. Imagínate a ti mismo muerto; eres un cadáver. Lleva tu atención a los dedos de los pies. Con los ojos cerrados\, entra en ti. Lleva tu atención a los dedos de los pies y contempla como se inicia un Fuego que es Kalágnirudra (el destructor universal\, Shiva; es el Fuego del Tiempo) en la punta de la uña del dedo gordo del pie derecho. Luego sigue hacia el talón y el resto de los dedos\, en los dos pies. Siente que los dedos de los pies se están quemando\, solo quedan cenizas\, y luego este fuego asciende por el cuerpo lentamente\, quemando todo lo que encuentra el fuego. Según asciende el fuego\, tu cuerpo está desapareciendo. Todas las partes de tu cuerpo se convierten en cenizas y van desapareciendo. Hasta que todo el cuerpo se ha convertido en cenizas. Todo lo que queda son cenizas esparcidas por el viento.Mirando desde arriba en el espacio\, tú permaneces como testigo sin ego\, mirando el cuerpo. El cuerpo está ahí\, muerto\, quemado\, cenizas\, y tú lo observas\, tú eres el testigo. Y así experimentas tu naturaleza real\, que es todo paz\, quietud y alegría. 						\n				\n				\n				\n					\n			\n		\n				\n				\n				\n				\n																										\n				\n				\n				\n					\n			\n		\n				\n				\n				\n				\n							NOTAS:• Practica esta meditación cada día durante 3 meses. Te puede llevar al Samadhi. 						\n				\n				\n				\n					\n			\n		\n				\n				\n					\n		\n					\n		\n				\n						\n					\n			\n						\n				\n			\n\n	\n						\n																									\n								\n																	\n							\n							\n														\n							Hari Dass: Información de tu interés 									\n				\n					Recuerda revisar nuestros talleres de Tantra\, cursos de Tantra y formación de Tantra. Nos puedes encontrar en Tantra Barcelona y Tantra Madrid.Puedes asistir a nuestros eventos de Tantra de forma presencial y también online. 
URL:https://tantrayamorconsciente.com/calendario-de-taller-cursos-y-formaciones-de-tantra/formacion-de-tantra-personal-y-o-profesional-18-y-19-de-febrero-en-barcelona/
LOCATION:Amrita.\, c/ Sant Antoni Maria Claret\, 176\, Montgat\, Barcelona\, 08390
CATEGORIES:Formación de Tantra
ATTACH;FMTTYPE=image/webp:https://tantrayamorconsciente.com/wp-content/uploads/2022/04/Formacion-de-Tantra-Personal-y-o-profesional-Taller-tantra-curso-tantra-formacion-tantra-hari-dass.webp
ORGANIZER;CN="Silvia Oliveras":MAILTO:silvia@tantrayamorconsciente.com
END:VEVENT
BEGIN:VEVENT
DTSTART;TZID=Europe/Madrid:20230228T160000
DTEND;TZID=Europe/Madrid:20230305T160000
DTSTAMP:20260422T003147
CREATED:20221127T150001Z
LAST-MODIFIED:20230129T125049Z
UID:48640-1677600000-1678032000@tantrayamorconsciente.com
SUMMARY:SANACIÓN SEXUAL ANCESTRAL FEMENINA. Del 28 de Febrero al 5 de Marzo 2023 en Málaga
DESCRIPTION:MEDITACIÓN DEL FUEGO PURIFICADOR		\n				\n				\n				\n					\n			\n		\n				\n				\n				\n				\n							Vijñana Bhairava Tantra Shloka 52. Dhāraṇā 29 						\n				\n				\n				\n							कालाग्निना कालपदाद् उत्थितेन स्वकम् पुरम्।प्लुष्टम् विचिन्तयेद् अन्ते शान्ताभासस् तदा भवेत्॥ ५२॥ 						\n				\n				\n				\n							Kalagnina kalapadad utthitena svakam puram – Plushtam vichintayed ante shantabhásas tada bhavet Literalmente: «Mi cuerpo es quemado por el Fuego de Kalágni que se eleva desde el dedo gordo de mi pie derecho\, ascendiendo hacia arriba. Él/ella experimentará su naturaleza (real) que es todo paz\, quietud” Hemos encontrado esta meditación en dos textos tántricos tradicionales: El Kaula Jñana Nirnaya (Patala 2) y en el Vijñana Bhairava Tantra. 						\n				\n				\n				\n			LA MEDITACIÓN:		\n				\n				\n				\n					\n			\n		\n				\n				\n				\n				\n							Túmbate. Imagínate a ti mismo muerto; eres un cadáver. Lleva tu atención a los dedos de los pies. Con los ojos cerrados\, entra en ti. Lleva tu atención a los dedos de los pies y contempla como se inicia un Fuego que es Kalágnirudra (el destructor universal\, Shiva; es el Fuego del Tiempo) en la punta de la uña del dedo gordo del pie derecho. Luego sigue hacia el talón y el resto de los dedos\, en los dos pies. Siente que los dedos de los pies se están quemando\, solo quedan cenizas\, y luego este fuego asciende por el cuerpo lentamente\, quemando todo lo que encuentra el fuego. Según asciende el fuego\, tu cuerpo está desapareciendo. Todas las partes de tu cuerpo se convierten en cenizas y van desapareciendo. Hasta que todo el cuerpo se ha convertido en cenizas. Todo lo que queda son cenizas esparcidas por el viento.Mirando desde arriba en el espacio\, tú permaneces como testigo sin ego\, mirando el cuerpo. El cuerpo está ahí\, muerto\, quemado\, cenizas\, y tú lo observas\, tú eres el testigo. Y así experimentas tu naturaleza real\, que es todo paz\, quietud y alegría. 						\n				\n				\n				\n					\n			\n		\n				\n				\n				\n				\n																										\n				\n				\n				\n					\n			\n		\n				\n				\n				\n				\n							NOTAS:• Practica esta meditación cada día durante 3 meses. Te puede llevar al Samadhi. 						\n				\n				\n				\n					\n			\n		\n				\n				\n					\n		\n					\n		\n				\n						\n					\n			\n						\n				\n			\n\n	\n						\n																									\n								\n																	\n							\n							\n														\n							Hari Dass: Información de tu interés 									\n				\n					Recuerda revisar nuestros talleres de Tantra\, cursos de Tantra y formación de Tantra. Nos puedes encontrar en Tantra Barcelona y Tantra Madrid.Puedes asistir a nuestros eventos de Tantra de forma presencial y también online. 
URL:https://tantrayamorconsciente.com/calendario-de-taller-cursos-y-formaciones-de-tantra/sanacion-sexual-ancestral-femenina-28-de-febrero-al-5-de-marzo-2023-malaga/
LOCATION:Cortijo El Corralón\, Castril\, Granada\, 18816
CATEGORIES:Taller de Tantra presencial
ATTACH;FMTTYPE=image/webp:https://tantrayamorconsciente.com/wp-content/uploads/2022/04/Sanacion-Sexual-Ancestral-Femenina-Taller-tantra-curso-tantra-formacion-tantra-hari-dass.webp
ORGANIZER;CN="Sanacionsaf":MAILTO:info@sanacionsaf.com
END:VEVENT
END:VCALENDAR