BEGIN:VCALENDAR
VERSION:2.0
PRODID:-//Tantra y Amor Consciente - ECPv6.3.7//NONSGML v1.0//EN
CALSCALE:GREGORIAN
METHOD:PUBLISH
X-ORIGINAL-URL:https://tantrayamorconsciente.com
X-WR-CALDESC:Eventos para Tantra y Amor Consciente
REFRESH-INTERVAL;VALUE=DURATION:PT1H
X-Robots-Tag:noindex
X-PUBLISHED-TTL:PT1H
BEGIN:VTIMEZONE
TZID:Europe/Madrid
BEGIN:DAYLIGHT
TZOFFSETFROM:+0100
TZOFFSETTO:+0200
TZNAME:CEST
DTSTART:20230326T010000
END:DAYLIGHT
BEGIN:STANDARD
TZOFFSETFROM:+0200
TZOFFSETTO:+0100
TZNAME:CET
DTSTART:20231029T010000
END:STANDARD
END:VTIMEZONE
BEGIN:VEVENT
DTSTART;TZID=Europe/Madrid:20231201T180000
DTEND;TZID=Europe/Madrid:20231203T160000
DTSTAMP:20260424T155215
CREATED:20230721T182906Z
LAST-MODIFIED:20231114T165029Z
UID:58549-1701453600-1701619200@tantrayamorconsciente.com
SUMMARY:SANANDO LAS RELACIONES - Aprendiendo A Amar. Del 1 Al 3 De Diciembre En Barcelona
DESCRIPTION:Facilitador@s en Málaga		\n				\n					\n		\n					\n		\n				\n						\n					\n			\n						\n				\n					\n			\n		\n				\n				\n					\n		\n					\n		\n				\n						\n					\n			\n						\n						\n					\n			\n						\n				\n																										\n				\n					\n		\n				\n			\n						\n				\n			Alba Maldonado Martínez		\n				\n				\n				\n					\n			\n							\n					\n						\n		\n				\n				\n				\n				\n							Formación: Sexóloga\, Terapeuta psicocorporal\, facilitadora de Tantra.Experiencia: Facilitadora de Tantra y Sexualidad Consciente. Desde 2005 imparto talleres relacionados con la Educación Sexual y la Igualdad de género.Ciudad/Provincia: GranadaEmail: Alalbaseoxologia@gmail.comTeléfono: +34 640 169 200Idioma:  Español. 						\n				\n					\n		\n					\n		\n					\n		\n					\n		\n				\n						\n					\n			\n						\n						\n					\n			\n						\n				\n																										\n				\n					\n		\n				\n			\n						\n				\n			MARIU NIRAM		\n				\n				\n				\n					\n			\n							\n					\n						\n		\n				\n				\n				\n				\n							Formación: Facilitadora de Tantra y Sexualidad Consciente\, Terapeuta Sexual\, Facilitadora de Breathwork\, Terapeuta energética y Psicodramatista.     Ofrezco: Talleres y Retiros de Tantra. Terapia Sexual presencial y Online. Acompañamiento a Parejas Ciudad/Provincia: Málaga y Granada.Teléfono: +34 603 360 458Instagram: @NiramtantraIdioma: Castellano
URL:https://tantrayamorconsciente.com/calendario-de-taller-cursos-y-formaciones-de-tantra/sanando-las-relaciones-aprendiendo-a-amar-1-3-de-diciembre-barcelona/
LOCATION:Masía Mas Gras.\, Masia Mas Gras\, Callús\,\, Barcelona\, 08262
CATEGORIES:Taller de Tantra presencial
ATTACH;FMTTYPE=image/webp:https://tantrayamorconsciente.com/wp-content/uploads/2023/07/PAREJA-SANANDO-1.webp
ORGANIZER;CN="Prem %C3%81diti":MAILTO:info@intimacomunion.com
END:VEVENT
BEGIN:VEVENT
DTSTART;TZID=Europe/Madrid:20231205T160000
DTEND;TZID=Europe/Madrid:20231210T160000
DTSTAMP:20260424T155215
CREATED:20230718T134938Z
LAST-MODIFIED:20231123T150403Z
UID:58188-1701792000-1702224000@tantrayamorconsciente.com
SUMMARY:LA VÍA DEL VALLE – solo parejas - 5 Al 10 Diciembre (puente Constitución) Vizcaya
DESCRIPTION:Facilitador@s en Málaga		\n				\n					\n		\n					\n		\n				\n						\n					\n			\n						\n				\n					\n			\n		\n				\n				\n					\n		\n					\n		\n				\n						\n					\n			\n						\n						\n					\n			\n						\n				\n																										\n				\n					\n		\n				\n			\n						\n				\n			Alba Maldonado Martínez		\n				\n				\n				\n					\n			\n							\n					\n						\n		\n				\n				\n				\n				\n							Formación: Sexóloga\, Terapeuta psicocorporal\, facilitadora de Tantra.Experiencia: Facilitadora de Tantra y Sexualidad Consciente. Desde 2005 imparto talleres relacionados con la Educación Sexual y la Igualdad de género.Ciudad/Provincia: GranadaEmail: Alalbaseoxologia@gmail.comTeléfono: +34 640 169 200Idioma:  Español. 						\n				\n					\n		\n					\n		\n					\n		\n					\n		\n				\n						\n					\n			\n						\n						\n					\n			\n						\n				\n																										\n				\n					\n		\n				\n			\n						\n				\n			MARIU NIRAM		\n				\n				\n				\n					\n			\n							\n					\n						\n		\n				\n				\n				\n				\n							Formación: Facilitadora de Tantra y Sexualidad Consciente\, Terapeuta Sexual\, Facilitadora de Breathwork\, Terapeuta energética y Psicodramatista.     Ofrezco: Talleres y Retiros de Tantra. Terapia Sexual presencial y Online. Acompañamiento a Parejas Ciudad/Provincia: Málaga y Granada.Teléfono: +34 603 360 458Instagram: @NiramtantraIdioma: Castellano
URL:https://tantrayamorconsciente.com/calendario-de-taller-cursos-y-formaciones-de-tantra/la-via-del-valle-solo-parejas-5-diciembre-al-10-diciembre-vizcaya/
LOCATION:Molinar\, Vizcaya.\, Molinar\, Vizcaya\, Molinar\, País Vasco\, 48891\, España
CATEGORIES:Taller de Tantra presencial
ATTACH;FMTTYPE=image/webp:https://tantrayamorconsciente.com/wp-content/uploads/2022/04/La-Via-del-valle-solo-para-parejas-Taller-tantra-curso-tantra-formacion-tantra-hari-dass.webp
ORGANIZER;CN="Silvia Oliveras":MAILTO:silvia@tantrayamorconsciente.com
END:VEVENT
BEGIN:VEVENT
DTSTART;TZID=Europe/Madrid:20231213T203000
DTEND;TZID=Europe/Madrid:20231213T213000
DTSTAMP:20260424T155215
CREATED:20230713T094010Z
LAST-MODIFIED:20250623T125925Z
UID:58086-1702499400-1702503000@tantrayamorconsciente.com
SUMMARY:WEBINAR Tantra y Sexualidad Sagrada 13 Diciembre
DESCRIPTION:Facilitador@s en Málaga		\n				\n					\n		\n					\n		\n				\n						\n					\n			\n						\n				\n					\n			\n		\n				\n				\n					\n		\n					\n		\n				\n						\n					\n			\n						\n						\n					\n			\n						\n				\n																										\n				\n					\n		\n				\n			\n						\n				\n			Alba Maldonado Martínez		\n				\n				\n				\n					\n			\n							\n					\n						\n		\n				\n				\n				\n				\n							Formación: Sexóloga\, Terapeuta psicocorporal\, facilitadora de Tantra.Experiencia: Facilitadora de Tantra y Sexualidad Consciente. Desde 2005 imparto talleres relacionados con la Educación Sexual y la Igualdad de género.Ciudad/Provincia: GranadaEmail: Alalbaseoxologia@gmail.comTeléfono: +34 640 169 200Idioma:  Español. 						\n				\n					\n		\n					\n		\n					\n		\n					\n		\n				\n						\n					\n			\n						\n						\n					\n			\n						\n				\n																										\n				\n					\n		\n				\n			\n						\n				\n			MARIU NIRAM		\n				\n				\n				\n					\n			\n							\n					\n						\n		\n				\n				\n				\n				\n							Formación: Facilitadora de Tantra y Sexualidad Consciente\, Terapeuta Sexual\, Facilitadora de Breathwork\, Terapeuta energética y Psicodramatista.     Ofrezco: Talleres y Retiros de Tantra. Terapia Sexual presencial y Online. Acompañamiento a Parejas Ciudad/Provincia: Málaga y Granada.Teléfono: +34 603 360 458Instagram: @NiramtantraIdioma: Castellano
URL:https://tantrayamorconsciente.com/calendario-de-taller-cursos-y-formaciones-de-tantra/webinar-gratuito-online-tantra-y-sexualidad-sagrada-13-de-diciembre/
LOCATION:Online en España.\, s/n\, Torrelles de Foix\, Barcelona\, 08737
CATEGORIES:Taller de Tantra Online
ATTACH;FMTTYPE=image/webp:https://tantrayamorconsciente.com/wp-content/uploads/2022/07/webinar-gratuito-1-tantra-barcelona-tantra-madrid-curso-tantra-formacion-tantra-taller-tantra-hari-dass.webp
ORGANIZER;CN="Silvia Oliveras":MAILTO:silvia@tantrayamorconsciente.com
END:VEVENT
BEGIN:VEVENT
DTSTART;TZID=Europe/Madrid:20231216T093000
DTEND;TZID=Europe/Madrid:20231217T193000
DTSTAMP:20260424T155215
CREATED:20230713T091519Z
LAST-MODIFIED:20231214T151812Z
UID:58074-1702719000-1702841400@tantrayamorconsciente.com
SUMMARY:SEXUALIDAD\, AMOR Y CONSCIENCIA – 16 Y 17 De Diciembre Madrid
DESCRIPTION:Facilitador@s en Málaga		\n				\n					\n		\n					\n		\n				\n						\n					\n			\n						\n				\n					\n			\n		\n				\n				\n					\n		\n					\n		\n				\n						\n					\n			\n						\n						\n					\n			\n						\n				\n																										\n				\n					\n		\n				\n			\n						\n				\n			Alba Maldonado Martínez		\n				\n				\n				\n					\n			\n							\n					\n						\n		\n				\n				\n				\n				\n							Formación: Sexóloga\, Terapeuta psicocorporal\, facilitadora de Tantra.Experiencia: Facilitadora de Tantra y Sexualidad Consciente. Desde 2005 imparto talleres relacionados con la Educación Sexual y la Igualdad de género.Ciudad/Provincia: GranadaEmail: Alalbaseoxologia@gmail.comTeléfono: +34 640 169 200Idioma:  Español. 						\n				\n					\n		\n					\n		\n					\n		\n					\n		\n				\n						\n					\n			\n						\n						\n					\n			\n						\n				\n																										\n				\n					\n		\n				\n			\n						\n				\n			MARIU NIRAM		\n				\n				\n				\n					\n			\n							\n					\n						\n		\n				\n				\n				\n				\n							Formación: Facilitadora de Tantra y Sexualidad Consciente\, Terapeuta Sexual\, Facilitadora de Breathwork\, Terapeuta energética y Psicodramatista.     Ofrezco: Talleres y Retiros de Tantra. Terapia Sexual presencial y Online. Acompañamiento a Parejas Ciudad/Provincia: Málaga y Granada.Teléfono: +34 603 360 458Instagram: @NiramtantraIdioma: Castellano
URL:https://tantrayamorconsciente.com/calendario-de-taller-cursos-y-formaciones-de-tantra/sexualidad-amor-y-consciencia-16-y-17-diciembre-madrid/
LOCATION:Espacio la Ventana.\, C/ de Rascón 21\, Madrid\, Madrid\, 28019\, España
CATEGORIES:Taller de Tantra presencial
ATTACH;FMTTYPE=image/webp:https://tantrayamorconsciente.com/wp-content/uploads/2022/04/Sexualidas-amor-y-consciencia-Taller-tantra-curso-tantra-formacion-tantra-hari-dass-1.webp
ORGANIZER;CN="Silvia Oliveras":MAILTO:silvia@tantrayamorconsciente.com
END:VEVENT
END:VCALENDAR