BEGIN:VCALENDAR
VERSION:2.0
PRODID:-//Tantra y Amor Consciente - ECPv6.3.7//NONSGML v1.0//EN
CALSCALE:GREGORIAN
METHOD:PUBLISH
X-ORIGINAL-URL:https://tantrayamorconsciente.com
X-WR-CALDESC:Eventos para Tantra y Amor Consciente
REFRESH-INTERVAL;VALUE=DURATION:PT1H
X-Robots-Tag:noindex
X-PUBLISHED-TTL:PT1H
BEGIN:VTIMEZONE
TZID:Europe/Madrid
BEGIN:DAYLIGHT
TZOFFSETFROM:+0100
TZOFFSETTO:+0200
TZNAME:CEST
DTSTART:20230326T010000
END:DAYLIGHT
BEGIN:STANDARD
TZOFFSETFROM:+0200
TZOFFSETTO:+0100
TZNAME:CET
DTSTART:20231029T010000
END:STANDARD
END:VTIMEZONE
BEGIN:VEVENT
DTSTART;TZID=Europe/Madrid:20230926T160000
DTEND;TZID=Europe/Madrid:20231001T160000
DTSTAMP:20260424T233449
CREATED:20230421T083409Z
LAST-MODIFIED:20230926T160452Z
UID:54815-1695744000-1696176000@tantrayamorconsciente.com
SUMMARY:LA VÍA DEL VALLE – solo parejas - 26 Septiembre Al 1 Octubre Tarragona
DESCRIPTION:Facilitador@s en Málaga		\n				\n					\n		\n					\n		\n				\n						\n					\n			\n						\n				\n					\n			\n		\n				\n				\n					\n		\n					\n		\n				\n						\n					\n			\n						\n						\n					\n			\n						\n				\n																										\n				\n					\n		\n				\n			\n						\n				\n			Alba Maldonado Martínez		\n				\n				\n				\n					\n			\n							\n					\n						\n		\n				\n				\n				\n				\n							Formación: Sexóloga\, Terapeuta psicocorporal\, facilitadora de Tantra.Experiencia: Facilitadora de Tantra y Sexualidad Consciente. Desde 2005 imparto talleres relacionados con la Educación Sexual y la Igualdad de género.Ciudad/Provincia: GranadaEmail: Alalbaseoxologia@gmail.comTeléfono: +34 640 169 200Idioma:  Español. 						\n				\n					\n		\n					\n		\n					\n		\n					\n		\n				\n						\n					\n			\n						\n						\n					\n			\n						\n				\n																										\n				\n					\n		\n				\n			\n						\n				\n			MARIU NIRAM		\n				\n				\n				\n					\n			\n							\n					\n						\n		\n				\n				\n				\n				\n							Formación: Facilitadora de Tantra y Sexualidad Consciente\, Terapeuta Sexual\, Facilitadora de Breathwork\, Terapeuta energética y Psicodramatista.     Ofrezco: Talleres y Retiros de Tantra. Terapia Sexual presencial y Online. Acompañamiento a Parejas Ciudad/Provincia: Málaga y Granada.Teléfono: +34 603 360 458Instagram: @NiramtantraIdioma: Castellano
URL:https://tantrayamorconsciente.com/calendario-de-taller-cursos-y-formaciones-de-tantra/la-via-del-valle-solo-parejas-del-26-de-septiembre-al-1-de-octubre-en-tarragona/
LOCATION:Mont-ral.\, Tarragona\, España
CATEGORIES:Taller de Tantra presencial
ATTACH;FMTTYPE=image/webp:https://tantrayamorconsciente.com/wp-content/uploads/2022/04/La-Via-del-valle-solo-para-parejas-Taller-tantra-curso-tantra-formacion-tantra-hari-dass.webp
ORGANIZER;CN="Silvia Oliveras":MAILTO:silvia@tantrayamorconsciente.com
END:VEVENT
BEGIN:VEVENT
DTSTART;TZID=Europe/Madrid:20231004T203000
DTEND;TZID=Europe/Madrid:20231004T213000
DTSTAMP:20260424T233449
CREATED:20230420T092939Z
LAST-MODIFIED:20230927T145542Z
UID:54598-1696451400-1696455000@tantrayamorconsciente.com
SUMMARY:WEBINAR gratuito online: Tantra y Sexualidad Sagrada 4 de Octubre
DESCRIPTION:Facilitador@s en Málaga		\n				\n					\n		\n					\n		\n				\n						\n					\n			\n						\n				\n					\n			\n		\n				\n				\n					\n		\n					\n		\n				\n						\n					\n			\n						\n						\n					\n			\n						\n				\n																										\n				\n					\n		\n				\n			\n						\n				\n			Alba Maldonado Martínez		\n				\n				\n				\n					\n			\n							\n					\n						\n		\n				\n				\n				\n				\n							Formación: Sexóloga\, Terapeuta psicocorporal\, facilitadora de Tantra.Experiencia: Facilitadora de Tantra y Sexualidad Consciente. Desde 2005 imparto talleres relacionados con la Educación Sexual y la Igualdad de género.Ciudad/Provincia: GranadaEmail: Alalbaseoxologia@gmail.comTeléfono: +34 640 169 200Idioma:  Español. 						\n				\n					\n		\n					\n		\n					\n		\n					\n		\n				\n						\n					\n			\n						\n						\n					\n			\n						\n				\n																										\n				\n					\n		\n				\n			\n						\n				\n			MARIU NIRAM		\n				\n				\n				\n					\n			\n							\n					\n						\n		\n				\n				\n				\n				\n							Formación: Facilitadora de Tantra y Sexualidad Consciente\, Terapeuta Sexual\, Facilitadora de Breathwork\, Terapeuta energética y Psicodramatista.     Ofrezco: Talleres y Retiros de Tantra. Terapia Sexual presencial y Online. Acompañamiento a Parejas Ciudad/Provincia: Málaga y Granada.Teléfono: +34 603 360 458Instagram: @NiramtantraIdioma: Castellano
URL:https://tantrayamorconsciente.com/calendario-de-taller-cursos-y-formaciones-de-tantra/webinar-gratuito-tantra-y-sexualidad-sagrada-4-de-octubree-online/
LOCATION:Online en España.\, s/n\, Torrelles de Foix\, Barcelona\, 08737
CATEGORIES:Taller de Tantra Online
ATTACH;FMTTYPE=image/webp:https://tantrayamorconsciente.com/wp-content/uploads/2022/07/webinar-gratuito-1-tantra-barcelona-tantra-madrid-curso-tantra-formacion-tantra-taller-tantra-hari-dass.webp
ORGANIZER;CN="Silvia Oliveras":MAILTO:silvia@tantrayamorconsciente.com
END:VEVENT
BEGIN:VEVENT
DTSTART;TZID=Europe/Madrid:20231006T180000
DTEND;TZID=Europe/Madrid:20231008T160000
DTSTAMP:20260424T233449
CREATED:20230510T145517Z
LAST-MODIFIED:20230915T140844Z
UID:55572-1696615200-1696780800@tantrayamorconsciente.com
SUMMARY:DESPERTANDO AL AMOR –  6 al 8 de Octubre Barcelona
DESCRIPTION:Facilitador@s en Málaga		\n				\n					\n		\n					\n		\n				\n						\n					\n			\n						\n				\n					\n			\n		\n				\n				\n					\n		\n					\n		\n				\n						\n					\n			\n						\n						\n					\n			\n						\n				\n																										\n				\n					\n		\n				\n			\n						\n				\n			Alba Maldonado Martínez		\n				\n				\n				\n					\n			\n							\n					\n						\n		\n				\n				\n				\n				\n							Formación: Sexóloga\, Terapeuta psicocorporal\, facilitadora de Tantra.Experiencia: Facilitadora de Tantra y Sexualidad Consciente. Desde 2005 imparto talleres relacionados con la Educación Sexual y la Igualdad de género.Ciudad/Provincia: GranadaEmail: Alalbaseoxologia@gmail.comTeléfono: +34 640 169 200Idioma:  Español. 						\n				\n					\n		\n					\n		\n					\n		\n					\n		\n				\n						\n					\n			\n						\n						\n					\n			\n						\n				\n																										\n				\n					\n		\n				\n			\n						\n				\n			MARIU NIRAM		\n				\n				\n				\n					\n			\n							\n					\n						\n		\n				\n				\n				\n				\n							Formación: Facilitadora de Tantra y Sexualidad Consciente\, Terapeuta Sexual\, Facilitadora de Breathwork\, Terapeuta energética y Psicodramatista.     Ofrezco: Talleres y Retiros de Tantra. Terapia Sexual presencial y Online. Acompañamiento a Parejas Ciudad/Provincia: Málaga y Granada.Teléfono: +34 603 360 458Instagram: @NiramtantraIdioma: Castellano
URL:https://tantrayamorconsciente.com/calendario-de-taller-cursos-y-formaciones-de-tantra/despertando-al-amor-del-6-al-8-de-octubre-en-barcelona/
LOCATION:Masía Mas Gras.\, Masia Mas Gras\, Callús\,\, Barcelona\, 08262
CATEGORIES:Taller de Tantra presencial
ATTACH;FMTTYPE=image/webp:https://tantrayamorconsciente.com/wp-content/uploads/2022/05/despertando-el-amor-Taller-tantra-curso-tantra-formacion-tantra-hari-dass.webp
ORGANIZER;CN="Prem %C3%81diti":MAILTO:info@intimacomunion.com
END:VEVENT
BEGIN:VEVENT
DTSTART;TZID=Europe/Madrid:20231011T160000
DTEND;TZID=Europe/Madrid:20231015T160000
DTSTAMP:20260424T233449
CREATED:20230509T140212Z
LAST-MODIFIED:20230926T152226Z
UID:55533-1697040000-1697385600@tantrayamorconsciente.com
SUMMARY:COMPASIÓN Y ÉXTASIS - 11 al 15 de Octubre - Puente del Pilar. Tarragona
DESCRIPTION:Facilitador@s en Málaga		\n				\n					\n		\n					\n		\n				\n						\n					\n			\n						\n				\n					\n			\n		\n				\n				\n					\n		\n					\n		\n				\n						\n					\n			\n						\n						\n					\n			\n						\n				\n																										\n				\n					\n		\n				\n			\n						\n				\n			Alba Maldonado Martínez		\n				\n				\n				\n					\n			\n							\n					\n						\n		\n				\n				\n				\n				\n							Formación: Sexóloga\, Terapeuta psicocorporal\, facilitadora de Tantra.Experiencia: Facilitadora de Tantra y Sexualidad Consciente. Desde 2005 imparto talleres relacionados con la Educación Sexual y la Igualdad de género.Ciudad/Provincia: GranadaEmail: Alalbaseoxologia@gmail.comTeléfono: +34 640 169 200Idioma:  Español. 						\n				\n					\n		\n					\n		\n					\n		\n					\n		\n				\n						\n					\n			\n						\n						\n					\n			\n						\n				\n																										\n				\n					\n		\n				\n			\n						\n				\n			MARIU NIRAM		\n				\n				\n				\n					\n			\n							\n					\n						\n		\n				\n				\n				\n				\n							Formación: Facilitadora de Tantra y Sexualidad Consciente\, Terapeuta Sexual\, Facilitadora de Breathwork\, Terapeuta energética y Psicodramatista.     Ofrezco: Talleres y Retiros de Tantra. Terapia Sexual presencial y Online. Acompañamiento a Parejas Ciudad/Provincia: Málaga y Granada.Teléfono: +34 603 360 458Instagram: @NiramtantraIdioma: Castellano
URL:https://tantrayamorconsciente.com/calendario-de-taller-cursos-y-formaciones-de-tantra/compasion-y-extasis-sanacion-sexual-y-del-corazon-del-11-al-15-de-octubre-en-tarragona/
LOCATION:Mont-ral.\, Tarragona\, España
CATEGORIES:Taller de Tantra presencial
ATTACH;FMTTYPE=image/jpeg:https://tantrayamorconsciente.com/wp-content/uploads/2022/03/COMPASION-Y-EXTASIS-–-La-Gran-Transformacion.-Solo-parejas.jpg
ORGANIZER;CN="Silvia Oliveras":MAILTO:silvia@tantrayamorconsciente.com
END:VEVENT
BEGIN:VEVENT
DTSTART;TZID=Europe/Madrid:20231018T203000
DTEND;TZID=Europe/Madrid:20231018T203000
DTSTAMP:20260424T233449
CREATED:20230922T132208Z
LAST-MODIFIED:20230922T151640Z
UID:59220-1697661000-1697661000@tantrayamorconsciente.com
SUMMARY:PERLAS DE SABIDURÍA – Clase de tantra online – 18 Octubre
DESCRIPTION:Facilitador@s en Málaga		\n				\n					\n		\n					\n		\n				\n						\n					\n			\n						\n				\n					\n			\n		\n				\n				\n					\n		\n					\n		\n				\n						\n					\n			\n						\n						\n					\n			\n						\n				\n																										\n				\n					\n		\n				\n			\n						\n				\n			Alba Maldonado Martínez		\n				\n				\n				\n					\n			\n							\n					\n						\n		\n				\n				\n				\n				\n							Formación: Sexóloga\, Terapeuta psicocorporal\, facilitadora de Tantra.Experiencia: Facilitadora de Tantra y Sexualidad Consciente. Desde 2005 imparto talleres relacionados con la Educación Sexual y la Igualdad de género.Ciudad/Provincia: GranadaEmail: Alalbaseoxologia@gmail.comTeléfono: +34 640 169 200Idioma:  Español. 						\n				\n					\n		\n					\n		\n					\n		\n					\n		\n				\n						\n					\n			\n						\n						\n					\n			\n						\n				\n																										\n				\n					\n		\n				\n			\n						\n				\n			MARIU NIRAM		\n				\n				\n				\n					\n			\n							\n					\n						\n		\n				\n				\n				\n				\n							Formación: Facilitadora de Tantra y Sexualidad Consciente\, Terapeuta Sexual\, Facilitadora de Breathwork\, Terapeuta energética y Psicodramatista.     Ofrezco: Talleres y Retiros de Tantra. Terapia Sexual presencial y Online. Acompañamiento a Parejas Ciudad/Provincia: Málaga y Granada.Teléfono: +34 603 360 458Instagram: @NiramtantraIdioma: Castellano
URL:https://tantrayamorconsciente.com/calendario-de-taller-cursos-y-formaciones-de-tantra/perlas-de-sabiduria-clase-de-tantra-online-18-octubre/
LOCATION:Online en España.\, s/n\, Torrelles de Foix\, Barcelona\, 08737
CATEGORIES:Clase de tantra online
ATTACH;FMTTYPE=image/webp:https://tantrayamorconsciente.com/wp-content/uploads/2023/02/Tantrayamorconciente-portada-evento-PERLAS-DE-SABIDURIA.webp
ORGANIZER;CN="Silvia Oliveras":MAILTO:silvia@tantrayamorconsciente.com
END:VEVENT
BEGIN:VEVENT
DTSTART;TZID=Europe/Madrid:20231021T094500
DTEND;TZID=Europe/Madrid:20231022T183000
DTSTAMP:20260424T233450
CREATED:20230509T145038Z
LAST-MODIFIED:20231020T130806Z
UID:55559-1697881500-1697999400@tantrayamorconsciente.com
SUMMARY:EN GOZOSA UNIÓN – Taller Tantra Online para parejas. 21 y 22 de Octubre
DESCRIPTION:Facilitador@s en Málaga		\n				\n					\n		\n					\n		\n				\n						\n					\n			\n						\n				\n					\n			\n		\n				\n				\n					\n		\n					\n		\n				\n						\n					\n			\n						\n						\n					\n			\n						\n				\n																										\n				\n					\n		\n				\n			\n						\n				\n			Alba Maldonado Martínez		\n				\n				\n				\n					\n			\n							\n					\n						\n		\n				\n				\n				\n				\n							Formación: Sexóloga\, Terapeuta psicocorporal\, facilitadora de Tantra.Experiencia: Facilitadora de Tantra y Sexualidad Consciente. Desde 2005 imparto talleres relacionados con la Educación Sexual y la Igualdad de género.Ciudad/Provincia: GranadaEmail: Alalbaseoxologia@gmail.comTeléfono: +34 640 169 200Idioma:  Español. 						\n				\n					\n		\n					\n		\n					\n		\n					\n		\n				\n						\n					\n			\n						\n						\n					\n			\n						\n				\n																										\n				\n					\n		\n				\n			\n						\n				\n			MARIU NIRAM		\n				\n				\n				\n					\n			\n							\n					\n						\n		\n				\n				\n				\n				\n							Formación: Facilitadora de Tantra y Sexualidad Consciente\, Terapeuta Sexual\, Facilitadora de Breathwork\, Terapeuta energética y Psicodramatista.     Ofrezco: Talleres y Retiros de Tantra. Terapia Sexual presencial y Online. Acompañamiento a Parejas Ciudad/Provincia: Málaga y Granada.Teléfono: +34 603 360 458Instagram: @NiramtantraIdioma: Castellano
URL:https://tantrayamorconsciente.com/calendario-de-taller-cursos-y-formaciones-de-tantra/en-gozosa-union-taller-tantra-online-para-parejas-21-y-22-de-octubre-2023/
LOCATION:Online en España.\, s/n\, Torrelles de Foix\, Barcelona\, 08737
CATEGORIES:Taller de Tantra Online
ATTACH;FMTTYPE=image/webp:https://tantrayamorconsciente.com/wp-content/uploads/2022/09/En-gozosa-union-6-Taller-tantra-curso-tantra-formacion-tantra-hari-dass.webp
ORGANIZER;CN="Silvia Oliveras":MAILTO:silvia@tantrayamorconsciente.com
END:VEVENT
BEGIN:VEVENT
DTSTART;TZID=Europe/Madrid:20231028T093000
DTEND;TZID=Europe/Madrid:20231029T193000
DTSTAMP:20260424T233450
CREATED:20230509T142549Z
LAST-MODIFIED:20231114T164705Z
UID:55544-1698485400-1698607800@tantrayamorconsciente.com
SUMMARY:SEXUALIDAD\, AMOR Y CONSCIENCIA – 28 y 29 de Octubre Segovia
DESCRIPTION:Facilitador@s en Málaga		\n				\n					\n		\n					\n		\n				\n						\n					\n			\n						\n				\n					\n			\n		\n				\n				\n					\n		\n					\n		\n				\n						\n					\n			\n						\n						\n					\n			\n						\n				\n																										\n				\n					\n		\n				\n			\n						\n				\n			Alba Maldonado Martínez		\n				\n				\n				\n					\n			\n							\n					\n						\n		\n				\n				\n				\n				\n							Formación: Sexóloga\, Terapeuta psicocorporal\, facilitadora de Tantra.Experiencia: Facilitadora de Tantra y Sexualidad Consciente. Desde 2005 imparto talleres relacionados con la Educación Sexual y la Igualdad de género.Ciudad/Provincia: GranadaEmail: Alalbaseoxologia@gmail.comTeléfono: +34 640 169 200Idioma:  Español. 						\n				\n					\n		\n					\n		\n					\n		\n					\n		\n				\n						\n					\n			\n						\n						\n					\n			\n						\n				\n																										\n				\n					\n		\n				\n			\n						\n				\n			MARIU NIRAM		\n				\n				\n				\n					\n			\n							\n					\n						\n		\n				\n				\n				\n				\n							Formación: Facilitadora de Tantra y Sexualidad Consciente\, Terapeuta Sexual\, Facilitadora de Breathwork\, Terapeuta energética y Psicodramatista.     Ofrezco: Talleres y Retiros de Tantra. Terapia Sexual presencial y Online. Acompañamiento a Parejas Ciudad/Provincia: Málaga y Granada.Teléfono: +34 603 360 458Instagram: @NiramtantraIdioma: Castellano
URL:https://tantrayamorconsciente.com/calendario-de-taller-cursos-y-formaciones-de-tantra/sexualidad-amor-y-consciencia-28-y-29-de-octubre-en-segovia/
LOCATION:PARAMITA YOGA.\, San Francisco 13\, Segovia\, Segovia\, 40001\, España
CATEGORIES:Taller de Tantra presencial
ATTACH;FMTTYPE=image/webp:https://tantrayamorconsciente.com/wp-content/uploads/2022/04/Sexualidas-amor-y-consciencia-Taller-tantra-curso-tantra-formacion-tantra-hari-dass-1.webp
ORGANIZER;CN="Silvia Oliveras":MAILTO:silvia@tantrayamorconsciente.com
END:VEVENT
END:VCALENDAR