BEGIN:VCALENDAR
VERSION:2.0
PRODID:-//Tantra y Amor Consciente - ECPv6.3.7//NONSGML v1.0//EN
CALSCALE:GREGORIAN
METHOD:PUBLISH
X-ORIGINAL-URL:https://tantrayamorconsciente.com
X-WR-CALDESC:Eventos para Tantra y Amor Consciente
REFRESH-INTERVAL;VALUE=DURATION:PT1H
X-Robots-Tag:noindex
X-PUBLISHED-TTL:PT1H
BEGIN:VTIMEZONE
TZID:Europe/Madrid
BEGIN:DAYLIGHT
TZOFFSETFROM:+0100
TZOFFSETTO:+0200
TZNAME:CEST
DTSTART:20230326T010000
END:DAYLIGHT
BEGIN:STANDARD
TZOFFSETFROM:+0200
TZOFFSETTO:+0100
TZNAME:CET
DTSTART:20231029T010000
END:STANDARD
END:VTIMEZONE
BEGIN:VEVENT
DTSTART;TZID=Europe/Madrid:20230710T160000
DTEND;TZID=Europe/Madrid:20230716T160000
DTSTAMP:20260425T171357
CREATED:20230116T155558Z
LAST-MODIFIED:20231214T152710Z
UID:51373-1689004800-1689523200@tantrayamorconsciente.com
SUMMARY:LA VÍA ABRUPTA - Tantra parejas - 10 al 16 de Julio
DESCRIPTION:Facilitador@s en Málaga		\n				\n					\n		\n					\n		\n				\n						\n					\n			\n						\n				\n					\n			\n		\n				\n				\n					\n		\n					\n		\n				\n						\n					\n			\n						\n						\n					\n			\n						\n				\n																										\n				\n					\n		\n				\n			\n						\n				\n			Alba Maldonado Martínez		\n				\n				\n				\n					\n			\n							\n					\n						\n		\n				\n				\n				\n				\n							Formación: Sexóloga\, Terapeuta psicocorporal\, facilitadora de Tantra.Experiencia: Facilitadora de Tantra y Sexualidad Consciente. Desde 2005 imparto talleres relacionados con la Educación Sexual y la Igualdad de género.Ciudad/Provincia: GranadaEmail: Alalbaseoxologia@gmail.comTeléfono: +34 640 169 200Idioma:  Español. 						\n				\n					\n		\n					\n		\n					\n		\n					\n		\n				\n						\n					\n			\n						\n						\n					\n			\n						\n				\n																										\n				\n					\n		\n				\n			\n						\n				\n			MARIU NIRAM		\n				\n				\n				\n					\n			\n							\n					\n						\n		\n				\n				\n				\n				\n							Formación: Facilitadora de Tantra y Sexualidad Consciente\, Terapeuta Sexual\, Facilitadora de Breathwork\, Terapeuta energética y Psicodramatista.     Ofrezco: Talleres y Retiros de Tantra. Terapia Sexual presencial y Online. Acompañamiento a Parejas Ciudad/Provincia: Málaga y Granada.Teléfono: +34 603 360 458Instagram: @NiramtantraIdioma: Castellano
URL:https://tantrayamorconsciente.com/calendario-de-taller-cursos-y-formaciones-de-tantra/la-via-abrupta-tantra-solo-parejas-del-10-al-16-de-julio-en-tarragona/
LOCATION:Mont-ral.\, Tarragona\, España
CATEGORIES:Taller de Tantra presencial
ATTACH;FMTTYPE=image/webp:https://tantrayamorconsciente.com/wp-content/uploads/2022/06/La-via-abrupta-Taller-tantra-curso-tantra-formacion-tantra-hari-dass.webp
ORGANIZER;CN="Silvia Oliveras":MAILTO:silvia@tantrayamorconsciente.com
END:VEVENT
BEGIN:VEVENT
DTSTART;TZID=Europe/Madrid:20230711T160000
DTEND;TZID=Europe/Madrid:20230716T160000
DTSTAMP:20260425T171358
CREATED:20230428T081148Z
LAST-MODIFIED:20231214T152658Z
UID:55060-1689091200-1689523200@tantrayamorconsciente.com
SUMMARY:SANACIÓN SEXUAL ANCESTRAL FEMENINA. 11 al 16 de Julio Zaragoza
DESCRIPTION:Facilitador@s en Málaga		\n				\n					\n		\n					\n		\n				\n						\n					\n			\n						\n				\n					\n			\n		\n				\n				\n					\n		\n					\n		\n				\n						\n					\n			\n						\n						\n					\n			\n						\n				\n																										\n				\n					\n		\n				\n			\n						\n				\n			Alba Maldonado Martínez		\n				\n				\n				\n					\n			\n							\n					\n						\n		\n				\n				\n				\n				\n							Formación: Sexóloga\, Terapeuta psicocorporal\, facilitadora de Tantra.Experiencia: Facilitadora de Tantra y Sexualidad Consciente. Desde 2005 imparto talleres relacionados con la Educación Sexual y la Igualdad de género.Ciudad/Provincia: GranadaEmail: Alalbaseoxologia@gmail.comTeléfono: +34 640 169 200Idioma:  Español. 						\n				\n					\n		\n					\n		\n					\n		\n					\n		\n				\n						\n					\n			\n						\n						\n					\n			\n						\n				\n																										\n				\n					\n		\n				\n			\n						\n				\n			MARIU NIRAM		\n				\n				\n				\n					\n			\n							\n					\n						\n		\n				\n				\n				\n				\n							Formación: Facilitadora de Tantra y Sexualidad Consciente\, Terapeuta Sexual\, Facilitadora de Breathwork\, Terapeuta energética y Psicodramatista.     Ofrezco: Talleres y Retiros de Tantra. Terapia Sexual presencial y Online. Acompañamiento a Parejas Ciudad/Provincia: Málaga y Granada.Teléfono: +34 603 360 458Instagram: @NiramtantraIdioma: Castellano
URL:https://tantrayamorconsciente.com/calendario-de-taller-cursos-y-formaciones-de-tantra/sanacion-sexual-ancestral-femenina-del-11-al-16-de-julio-2023-en-zaragoza/
LOCATION:Lliuramae.\, Borja\, Zaragoza\, 50540\, España
CATEGORIES:Taller de Tantra presencial
ATTACH;FMTTYPE=image/webp:https://tantrayamorconsciente.com/wp-content/uploads/2022/04/Sanacion-Sexual-Ancestral-Femenina-Taller-tantra-curso-tantra-formacion-tantra-hari-dass.webp
ORGANIZER;CN="Sanacionsaf":MAILTO:info@sanacionsaf.com
END:VEVENT
BEGIN:VEVENT
DTSTART;TZID=Europe/Madrid:20230719T203000
DTEND;TZID=Europe/Madrid:20230719T213000
DTSTAMP:20260425T171358
CREATED:20230116T161340Z
LAST-MODIFIED:20231214T152648Z
UID:51383-1689798600-1689802200@tantrayamorconsciente.com
SUMMARY:WEBINAR gratuito online: Tantra y Sexualidad Sagrada – 19 Julio
DESCRIPTION:Facilitador@s en Málaga		\n				\n					\n		\n					\n		\n				\n						\n					\n			\n						\n				\n					\n			\n		\n				\n				\n					\n		\n					\n		\n				\n						\n					\n			\n						\n						\n					\n			\n						\n				\n																										\n				\n					\n		\n				\n			\n						\n				\n			Alba Maldonado Martínez		\n				\n				\n				\n					\n			\n							\n					\n						\n		\n				\n				\n				\n				\n							Formación: Sexóloga\, Terapeuta psicocorporal\, facilitadora de Tantra.Experiencia: Facilitadora de Tantra y Sexualidad Consciente. Desde 2005 imparto talleres relacionados con la Educación Sexual y la Igualdad de género.Ciudad/Provincia: GranadaEmail: Alalbaseoxologia@gmail.comTeléfono: +34 640 169 200Idioma:  Español. 						\n				\n					\n		\n					\n		\n					\n		\n					\n		\n				\n						\n					\n			\n						\n						\n					\n			\n						\n				\n																										\n				\n					\n		\n				\n			\n						\n				\n			MARIU NIRAM		\n				\n				\n				\n					\n			\n							\n					\n						\n		\n				\n				\n				\n				\n							Formación: Facilitadora de Tantra y Sexualidad Consciente\, Terapeuta Sexual\, Facilitadora de Breathwork\, Terapeuta energética y Psicodramatista.     Ofrezco: Talleres y Retiros de Tantra. Terapia Sexual presencial y Online. Acompañamiento a Parejas Ciudad/Provincia: Málaga y Granada.Teléfono: +34 603 360 458Instagram: @NiramtantraIdioma: Castellano
URL:https://tantrayamorconsciente.com/calendario-de-taller-cursos-y-formaciones-de-tantra/webinar-gratuito-tantra-y-sexualidad-sagrada-19-de-julio-online/
LOCATION:Online en España.\, s/n\, Torrelles de Foix\, Barcelona\, 08737
CATEGORIES:Taller de Tantra Online
ATTACH;FMTTYPE=image/webp:https://tantrayamorconsciente.com/wp-content/uploads/2023/01/Hari-dass-y-patricia.webp
ORGANIZER;CN="Silvia Oliveras":MAILTO:silvia@tantrayamorconsciente.com
END:VEVENT
END:VCALENDAR