BEGIN:VCALENDAR
VERSION:2.0
PRODID:-//Tantra y Amor Consciente - ECPv6.3.7//NONSGML v1.0//EN
CALSCALE:GREGORIAN
METHOD:PUBLISH
X-WR-CALNAME:Tantra y Amor Consciente
X-ORIGINAL-URL:https://tantrayamorconsciente.com
X-WR-CALDESC:Eventos para Tantra y Amor Consciente
REFRESH-INTERVAL;VALUE=DURATION:PT1H
X-Robots-Tag:noindex
X-PUBLISHED-TTL:PT1H
BEGIN:VTIMEZONE
TZID:Europe/Madrid
BEGIN:DAYLIGHT
TZOFFSETFROM:+0100
TZOFFSETTO:+0200
TZNAME:CEST
DTSTART:20230326T010000
END:DAYLIGHT
BEGIN:STANDARD
TZOFFSETFROM:+0200
TZOFFSETTO:+0100
TZNAME:CET
DTSTART:20231029T010000
END:STANDARD
END:VTIMEZONE
BEGIN:VEVENT
DTSTART;TZID=Europe/Madrid:20230607T203000
DTEND;TZID=Europe/Madrid:20230607T220000
DTSTAMP:20260425T041456
CREATED:20230426T134215Z
LAST-MODIFIED:20230607T153711Z
UID:55024-1686169800-1686175200@tantrayamorconsciente.com
SUMMARY:PERLAS DE SABIDURÍA – Clase de tantra online – 7 de Junio
DESCRIPTION:Facilitador@s en Málaga		\n				\n					\n		\n					\n		\n				\n						\n					\n			\n						\n				\n					\n			\n		\n				\n				\n					\n		\n					\n		\n				\n						\n					\n			\n						\n						\n					\n			\n						\n				\n																										\n				\n					\n		\n				\n			\n						\n				\n			Alba Maldonado Martínez		\n				\n				\n				\n					\n			\n							\n					\n						\n		\n				\n				\n				\n				\n							Formación: Sexóloga\, Terapeuta psicocorporal\, facilitadora de Tantra.Experiencia: Facilitadora de Tantra y Sexualidad Consciente. Desde 2005 imparto talleres relacionados con la Educación Sexual y la Igualdad de género.Ciudad/Provincia: GranadaEmail: Alalbaseoxologia@gmail.comTeléfono: +34 640 169 200Idioma:  Español. 						\n				\n					\n		\n					\n		\n					\n		\n					\n		\n				\n						\n					\n			\n						\n						\n					\n			\n						\n				\n																										\n				\n					\n		\n				\n			\n						\n				\n			MARIU NIRAM		\n				\n				\n				\n					\n			\n							\n					\n						\n		\n				\n				\n				\n				\n							Formación: Facilitadora de Tantra y Sexualidad Consciente\, Terapeuta Sexual\, Facilitadora de Breathwork\, Terapeuta energética y Psicodramatista.     Ofrezco: Talleres y Retiros de Tantra. Terapia Sexual presencial y Online. Acompañamiento a Parejas Ciudad/Provincia: Málaga y Granada.Teléfono: +34 603 360 458Instagram: @NiramtantraIdioma: Castellano
URL:https://tantrayamorconsciente.com/calendario-de-taller-cursos-y-formaciones-de-tantra/perlas-de-sabiduria-clase-de-tantra-online-7-de-junio/
LOCATION:Online en España.\, s/n\, Torrelles de Foix\, Barcelona\, 08737
CATEGORIES:Clase de tantra online
ATTACH;FMTTYPE=image/webp:https://tantrayamorconsciente.com/wp-content/uploads/2023/02/Tantrayamorconciente-portada-evento-PERLAS-DE-SABIDURIA.webp
ORGANIZER;CN="Silvia Oliveras":MAILTO:silvia@tantrayamorconsciente.com
END:VEVENT
BEGIN:VEVENT
DTSTART;TZID=Europe/Madrid:20230616T180000
DTEND;TZID=Europe/Madrid:20230618T160000
DTSTAMP:20260425T041456
CREATED:20230102T163139Z
LAST-MODIFIED:20230415T091302Z
UID:50904-1686938400-1687104000@tantrayamorconsciente.com
SUMMARY:SEXUALIDAD CONSCIENTE – Aprendiendo a Amar - 16 al 18 de Junio en Barcelona
DESCRIPTION:Facilitador@s en Málaga		\n				\n					\n		\n					\n		\n				\n						\n					\n			\n						\n				\n					\n			\n		\n				\n				\n					\n		\n					\n		\n				\n						\n					\n			\n						\n						\n					\n			\n						\n				\n																										\n				\n					\n		\n				\n			\n						\n				\n			Alba Maldonado Martínez		\n				\n				\n				\n					\n			\n							\n					\n						\n		\n				\n				\n				\n				\n							Formación: Sexóloga\, Terapeuta psicocorporal\, facilitadora de Tantra.Experiencia: Facilitadora de Tantra y Sexualidad Consciente. Desde 2005 imparto talleres relacionados con la Educación Sexual y la Igualdad de género.Ciudad/Provincia: GranadaEmail: Alalbaseoxologia@gmail.comTeléfono: +34 640 169 200Idioma:  Español. 						\n				\n					\n		\n					\n		\n					\n		\n					\n		\n				\n						\n					\n			\n						\n						\n					\n			\n						\n				\n																										\n				\n					\n		\n				\n			\n						\n				\n			MARIU NIRAM		\n				\n				\n				\n					\n			\n							\n					\n						\n		\n				\n				\n				\n				\n							Formación: Facilitadora de Tantra y Sexualidad Consciente\, Terapeuta Sexual\, Facilitadora de Breathwork\, Terapeuta energética y Psicodramatista.     Ofrezco: Talleres y Retiros de Tantra. Terapia Sexual presencial y Online. Acompañamiento a Parejas Ciudad/Provincia: Málaga y Granada.Teléfono: +34 603 360 458Instagram: @NiramtantraIdioma: Castellano
URL:https://tantrayamorconsciente.com/calendario-de-taller-cursos-y-formaciones-de-tantra/sexualidad-consciente-aprendiendo-a-amar-16-al-18-de-junio-en-barcelona/
LOCATION:Masía Mas Gras.\, Masia Mas Gras\, Callús\,\, Barcelona\, 08262
CATEGORIES:Taller de Tantra presencial
ATTACH;FMTTYPE=image/webp:https://tantrayamorconsciente.com/wp-content/uploads/2023/01/Sexualidad-Consciente-Aprendiendo-a-amar-curso-tantra-formacion-tantra-taller-tantra-hari-dass.webp
ORGANIZER;CN="Prem %C3%81diti":MAILTO:info@intimacomunion.com
END:VEVENT
BEGIN:VEVENT
DTSTART;TZID=Europe/Madrid:20230621T160000
DTEND;TZID=Europe/Madrid:20230625T160000
DTSTAMP:20260425T041456
CREATED:20230606T063105Z
LAST-MODIFIED:20230622T135902Z
UID:57092-1687363200-1687708800@tantrayamorconsciente.com
SUMMARY:COMPASIÓN Y ÉXTASIS - 21 al 25 de Junio - Solsticio verano
DESCRIPTION:Facilitador@s en Málaga		\n				\n					\n		\n					\n		\n				\n						\n					\n			\n						\n				\n					\n			\n		\n				\n				\n					\n		\n					\n		\n				\n						\n					\n			\n						\n						\n					\n			\n						\n				\n																										\n				\n					\n		\n				\n			\n						\n				\n			Alba Maldonado Martínez		\n				\n				\n				\n					\n			\n							\n					\n						\n		\n				\n				\n				\n				\n							Formación: Sexóloga\, Terapeuta psicocorporal\, facilitadora de Tantra.Experiencia: Facilitadora de Tantra y Sexualidad Consciente. Desde 2005 imparto talleres relacionados con la Educación Sexual y la Igualdad de género.Ciudad/Provincia: GranadaEmail: Alalbaseoxologia@gmail.comTeléfono: +34 640 169 200Idioma:  Español. 						\n				\n					\n		\n					\n		\n					\n		\n					\n		\n				\n						\n					\n			\n						\n						\n					\n			\n						\n				\n																										\n				\n					\n		\n				\n			\n						\n				\n			MARIU NIRAM		\n				\n				\n				\n					\n			\n							\n					\n						\n		\n				\n				\n				\n				\n							Formación: Facilitadora de Tantra y Sexualidad Consciente\, Terapeuta Sexual\, Facilitadora de Breathwork\, Terapeuta energética y Psicodramatista.     Ofrezco: Talleres y Retiros de Tantra. Terapia Sexual presencial y Online. Acompañamiento a Parejas Ciudad/Provincia: Málaga y Granada.Teléfono: +34 603 360 458Instagram: @NiramtantraIdioma: Castellano
URL:https://tantrayamorconsciente.com/calendario-de-taller-cursos-y-formaciones-de-tantra/compasion-y-extasis-del-21-al-25-de-junio-solsticio-de-verano/
LOCATION:Mont-ral.\, Tarragona\, España
CATEGORIES:Taller de Tantra presencial
ATTACH;FMTTYPE=image/jpeg:https://tantrayamorconsciente.com/wp-content/uploads/2022/03/COMPASION-Y-EXTASIS-–-La-Gran-Transformacion.-Solo-parejas.jpg
ORGANIZER;CN="Silvia Oliveras":MAILTO:silvia@tantrayamorconsciente.com
END:VEVENT
BEGIN:VEVENT
DTSTART;TZID=Europe/Madrid:20230628T203000
DTEND;TZID=Europe/Madrid:20230628T213000
DTSTAMP:20260425T041456
CREATED:20221223T164113Z
LAST-MODIFIED:20230720T143414Z
UID:50584-1687984200-1687987800@tantrayamorconsciente.com
SUMMARY:WEBINAR gratuito: La Vía Abrupta y los talleres de pareja - 28 de Junio – Online
DESCRIPTION:Facilitador@s en Málaga		\n				\n					\n		\n					\n		\n				\n						\n					\n			\n						\n				\n					\n			\n		\n				\n				\n					\n		\n					\n		\n				\n						\n					\n			\n						\n						\n					\n			\n						\n				\n																										\n				\n					\n		\n				\n			\n						\n				\n			Alba Maldonado Martínez		\n				\n				\n				\n					\n			\n							\n					\n						\n		\n				\n				\n				\n				\n							Formación: Sexóloga\, Terapeuta psicocorporal\, facilitadora de Tantra.Experiencia: Facilitadora de Tantra y Sexualidad Consciente. Desde 2005 imparto talleres relacionados con la Educación Sexual y la Igualdad de género.Ciudad/Provincia: GranadaEmail: Alalbaseoxologia@gmail.comTeléfono: +34 640 169 200Idioma:  Español. 						\n				\n					\n		\n					\n		\n					\n		\n					\n		\n				\n						\n					\n			\n						\n						\n					\n			\n						\n				\n																										\n				\n					\n		\n				\n			\n						\n				\n			MARIU NIRAM		\n				\n				\n				\n					\n			\n							\n					\n						\n		\n				\n				\n				\n				\n							Formación: Facilitadora de Tantra y Sexualidad Consciente\, Terapeuta Sexual\, Facilitadora de Breathwork\, Terapeuta energética y Psicodramatista.     Ofrezco: Talleres y Retiros de Tantra. Terapia Sexual presencial y Online. Acompañamiento a Parejas Ciudad/Provincia: Málaga y Granada.Teléfono: +34 603 360 458Instagram: @NiramtantraIdioma: Castellano
URL:https://tantrayamorconsciente.com/calendario-de-taller-cursos-y-formaciones-de-tantra/webinar-gratuito-la-via-abrupta-y-los-talleres-de-pareja-28-de-junio-online/
LOCATION:Online en España.\, s/n\, Torrelles de Foix\, Barcelona\, 08737
CATEGORIES:Taller de Tantra Online
ATTACH;FMTTYPE=image/webp:https://tantrayamorconsciente.com/wp-content/uploads/2022/07/webinar-gratuito-1-tantra-barcelona-tantra-madrid-curso-tantra-formacion-tantra-taller-tantra-hari-dass.webp
ORGANIZER;CN="Silvia Oliveras":MAILTO:silvia@tantrayamorconsciente.com
END:VEVENT
END:VCALENDAR