BEGIN:VCALENDAR
VERSION:2.0
PRODID:-//Tantra y Amor Consciente - ECPv6.3.7//NONSGML v1.0//EN
CALSCALE:GREGORIAN
METHOD:PUBLISH
X-WR-CALNAME:Tantra y Amor Consciente
X-ORIGINAL-URL:https://tantrayamorconsciente.com
X-WR-CALDESC:Eventos para Tantra y Amor Consciente
REFRESH-INTERVAL;VALUE=DURATION:PT1H
X-Robots-Tag:noindex
X-PUBLISHED-TTL:PT1H
BEGIN:VTIMEZONE
TZID:Europe/Madrid
BEGIN:DAYLIGHT
TZOFFSETFROM:+0100
TZOFFSETTO:+0200
TZNAME:CEST
DTSTART:20230326T010000
END:DAYLIGHT
BEGIN:STANDARD
TZOFFSETFROM:+0200
TZOFFSETTO:+0100
TZNAME:CET
DTSTART:20231029T010000
END:STANDARD
END:VTIMEZONE
BEGIN:VEVENT
DTSTART;TZID=Europe/Madrid:20230228T160000
DTEND;TZID=Europe/Madrid:20230305T160000
DTSTAMP:20260425T220358
CREATED:20221127T150001Z
LAST-MODIFIED:20230129T125049Z
UID:48640-1677600000-1678032000@tantrayamorconsciente.com
SUMMARY:SANACIÓN SEXUAL ANCESTRAL FEMENINA. Del 28 de Febrero al 5 de Marzo 2023 en Málaga
DESCRIPTION:Facilitador@s en Málaga		\n				\n					\n		\n					\n		\n				\n						\n					\n			\n						\n				\n					\n			\n		\n				\n				\n					\n		\n					\n		\n				\n						\n					\n			\n						\n						\n					\n			\n						\n				\n																										\n				\n					\n		\n				\n			\n						\n				\n			Alba Maldonado Martínez		\n				\n				\n				\n					\n			\n							\n					\n						\n		\n				\n				\n				\n				\n							Formación: Sexóloga\, Terapeuta psicocorporal\, facilitadora de Tantra.Experiencia: Facilitadora de Tantra y Sexualidad Consciente. Desde 2005 imparto talleres relacionados con la Educación Sexual y la Igualdad de género.Ciudad/Provincia: GranadaEmail: Alalbaseoxologia@gmail.comTeléfono: +34 640 169 200Idioma:  Español. 						\n				\n					\n		\n					\n		\n					\n		\n					\n		\n				\n						\n					\n			\n						\n						\n					\n			\n						\n				\n																										\n				\n					\n		\n				\n			\n						\n				\n			MARIU NIRAM		\n				\n				\n				\n					\n			\n							\n					\n						\n		\n				\n				\n				\n				\n							Formación: Facilitadora de Tantra y Sexualidad Consciente\, Terapeuta Sexual\, Facilitadora de Breathwork\, Terapeuta energética y Psicodramatista.     Ofrezco: Talleres y Retiros de Tantra. Terapia Sexual presencial y Online. Acompañamiento a Parejas Ciudad/Provincia: Málaga y Granada.Teléfono: +34 603 360 458Instagram: @NiramtantraIdioma: Castellano
URL:https://tantrayamorconsciente.com/calendario-de-taller-cursos-y-formaciones-de-tantra/sanacion-sexual-ancestral-femenina-28-de-febrero-al-5-de-marzo-2023-malaga/
LOCATION:Cortijo El Corralón\, Castril\, Granada\, 18816
CATEGORIES:Taller de Tantra presencial
ATTACH;FMTTYPE=image/webp:https://tantrayamorconsciente.com/wp-content/uploads/2022/04/Sanacion-Sexual-Ancestral-Femenina-Taller-tantra-curso-tantra-formacion-tantra-hari-dass.webp
ORGANIZER;CN="Sanacionsaf":MAILTO:info@sanacionsaf.com
END:VEVENT
BEGIN:VEVENT
DTSTART;TZID=Europe/Madrid:20230301T203000
DTEND;TZID=Europe/Madrid:20230301T223000
DTSTAMP:20260425T220359
CREATED:20230201T193036Z
LAST-MODIFIED:20230223T100628Z
UID:52211-1677702600-1677709800@tantrayamorconsciente.com
SUMMARY:PERLAS DE SABIDURÍA – Clase de tantra online – 1 de Marzo
DESCRIPTION:Facilitador@s en Málaga		\n				\n					\n		\n					\n		\n				\n						\n					\n			\n						\n				\n					\n			\n		\n				\n				\n					\n		\n					\n		\n				\n						\n					\n			\n						\n						\n					\n			\n						\n				\n																										\n				\n					\n		\n				\n			\n						\n				\n			Alba Maldonado Martínez		\n				\n				\n				\n					\n			\n							\n					\n						\n		\n				\n				\n				\n				\n							Formación: Sexóloga\, Terapeuta psicocorporal\, facilitadora de Tantra.Experiencia: Facilitadora de Tantra y Sexualidad Consciente. Desde 2005 imparto talleres relacionados con la Educación Sexual y la Igualdad de género.Ciudad/Provincia: GranadaEmail: Alalbaseoxologia@gmail.comTeléfono: +34 640 169 200Idioma:  Español. 						\n				\n					\n		\n					\n		\n					\n		\n					\n		\n				\n						\n					\n			\n						\n						\n					\n			\n						\n				\n																										\n				\n					\n		\n				\n			\n						\n				\n			MARIU NIRAM		\n				\n				\n				\n					\n			\n							\n					\n						\n		\n				\n				\n				\n				\n							Formación: Facilitadora de Tantra y Sexualidad Consciente\, Terapeuta Sexual\, Facilitadora de Breathwork\, Terapeuta energética y Psicodramatista.     Ofrezco: Talleres y Retiros de Tantra. Terapia Sexual presencial y Online. Acompañamiento a Parejas Ciudad/Provincia: Málaga y Granada.Teléfono: +34 603 360 458Instagram: @NiramtantraIdioma: Castellano
URL:https://tantrayamorconsciente.com/calendario-de-taller-cursos-y-formaciones-de-tantra/clase-de-tantra-online-1-de-marzo/
LOCATION:Online en España.\, s/n\, Torrelles de Foix\, Barcelona\, 08737
CATEGORIES:Clase de tantra online
ATTACH;FMTTYPE=image/webp:https://tantrayamorconsciente.com/wp-content/uploads/2023/02/Tantrayamorconciente-portada-evento-PERLAS-DE-SABIDURIA.webp
ORGANIZER;CN="Silvia Oliveras":MAILTO:silvia@tantrayamorconsciente.com
END:VEVENT
BEGIN:VEVENT
DTSTART;TZID=Europe/Madrid:20230318T093000
DTEND;TZID=Europe/Madrid:20230319T193000
DTSTAMP:20260425T220359
CREATED:20220916T162529Z
LAST-MODIFIED:20230315T111741Z
UID:44846-1679131800-1679254200@tantrayamorconsciente.com
SUMMARY:SEXUALIDAD\, AMOR Y CONSCIENCIA – 18 y 19 de marzo en Barcelona
DESCRIPTION:Facilitador@s en Málaga		\n				\n					\n		\n					\n		\n				\n						\n					\n			\n						\n				\n					\n			\n		\n				\n				\n					\n		\n					\n		\n				\n						\n					\n			\n						\n						\n					\n			\n						\n				\n																										\n				\n					\n		\n				\n			\n						\n				\n			Alba Maldonado Martínez		\n				\n				\n				\n					\n			\n							\n					\n						\n		\n				\n				\n				\n				\n							Formación: Sexóloga\, Terapeuta psicocorporal\, facilitadora de Tantra.Experiencia: Facilitadora de Tantra y Sexualidad Consciente. Desde 2005 imparto talleres relacionados con la Educación Sexual y la Igualdad de género.Ciudad/Provincia: GranadaEmail: Alalbaseoxologia@gmail.comTeléfono: +34 640 169 200Idioma:  Español. 						\n				\n					\n		\n					\n		\n					\n		\n					\n		\n				\n						\n					\n			\n						\n						\n					\n			\n						\n				\n																										\n				\n					\n		\n				\n			\n						\n				\n			MARIU NIRAM		\n				\n				\n				\n					\n			\n							\n					\n						\n		\n				\n				\n				\n				\n							Formación: Facilitadora de Tantra y Sexualidad Consciente\, Terapeuta Sexual\, Facilitadora de Breathwork\, Terapeuta energética y Psicodramatista.     Ofrezco: Talleres y Retiros de Tantra. Terapia Sexual presencial y Online. Acompañamiento a Parejas Ciudad/Provincia: Málaga y Granada.Teléfono: +34 603 360 458Instagram: @NiramtantraIdioma: Castellano
URL:https://tantrayamorconsciente.com/calendario-de-taller-cursos-y-formaciones-de-tantra/sexualidad-amor-y-consciencia-18-y-19-de-marzo-en-barcelona/
LOCATION:ESTUDI34.\, Estudio 34 Carrer de Sabadell\, 34\, 08172 Sant Cugat del Vallès\, Barcelona Barcelona 08172 España\, Barcelona\, 08172
CATEGORIES:Taller de Tantra presencial
ATTACH;FMTTYPE=image/webp:https://tantrayamorconsciente.com/wp-content/uploads/2022/04/Sexualidas-amor-y-consciencia-Taller-tantra-curso-tantra-formacion-tantra-hari-dass-1.webp
ORGANIZER;CN="Silvia Oliveras":MAILTO:silvia@tantrayamorconsciente.com
END:VEVENT
BEGIN:VEVENT
DTSTART;TZID=Europe/Madrid:20230322T203000
DTEND;TZID=Europe/Madrid:20230322T213000
DTSTAMP:20260425T220359
CREATED:20220916T163404Z
LAST-MODIFIED:20230303T152742Z
UID:44861-1679517000-1679520600@tantrayamorconsciente.com
SUMMARY:WEBINAR gratuito: La Vía del Valle y los talleres de pareja - 22 de marzo - Online
DESCRIPTION:Facilitador@s en Málaga		\n				\n					\n		\n					\n		\n				\n						\n					\n			\n						\n				\n					\n			\n		\n				\n				\n					\n		\n					\n		\n				\n						\n					\n			\n						\n						\n					\n			\n						\n				\n																										\n				\n					\n		\n				\n			\n						\n				\n			Alba Maldonado Martínez		\n				\n				\n				\n					\n			\n							\n					\n						\n		\n				\n				\n				\n				\n							Formación: Sexóloga\, Terapeuta psicocorporal\, facilitadora de Tantra.Experiencia: Facilitadora de Tantra y Sexualidad Consciente. Desde 2005 imparto talleres relacionados con la Educación Sexual y la Igualdad de género.Ciudad/Provincia: GranadaEmail: Alalbaseoxologia@gmail.comTeléfono: +34 640 169 200Idioma:  Español. 						\n				\n					\n		\n					\n		\n					\n		\n					\n		\n				\n						\n					\n			\n						\n						\n					\n			\n						\n				\n																										\n				\n					\n		\n				\n			\n						\n				\n			MARIU NIRAM		\n				\n				\n				\n					\n			\n							\n					\n						\n		\n				\n				\n				\n				\n							Formación: Facilitadora de Tantra y Sexualidad Consciente\, Terapeuta Sexual\, Facilitadora de Breathwork\, Terapeuta energética y Psicodramatista.     Ofrezco: Talleres y Retiros de Tantra. Terapia Sexual presencial y Online. Acompañamiento a Parejas Ciudad/Provincia: Málaga y Granada.Teléfono: +34 603 360 458Instagram: @NiramtantraIdioma: Castellano
URL:https://tantrayamorconsciente.com/calendario-de-taller-cursos-y-formaciones-de-tantra/webinar-gratuito-la-via-del-valle-y-los-talleres-de-pareja-22-de-marzo-online/
LOCATION:Online en España.\, s/n\, Torrelles de Foix\, Barcelona\, 08737
CATEGORIES:Taller de Tantra Online
ATTACH;FMTTYPE=image/webp:https://tantrayamorconsciente.com/wp-content/uploads/2022/07/webinar-gratuito-1-tantra-barcelona-tantra-madrid-curso-tantra-formacion-tantra-taller-tantra-hari-dass.webp
ORGANIZER;CN="Silvia Oliveras":MAILTO:silvia@tantrayamorconsciente.com
END:VEVENT
BEGIN:VEVENT
DTSTART;TZID=Europe/Madrid:20230325T093000
DTEND;TZID=Europe/Madrid:20230326T193000
DTSTAMP:20260425T220359
CREATED:20220916T164101Z
LAST-MODIFIED:20230303T153219Z
UID:44872-1679736600-1679859000@tantrayamorconsciente.com
SUMMARY:SEXUALIDAD\, AMOR Y CONSCIENCIA – 25 y 26 de marzo en Madrid
DESCRIPTION:Facilitador@s en Málaga		\n				\n					\n		\n					\n		\n				\n						\n					\n			\n						\n				\n					\n			\n		\n				\n				\n					\n		\n					\n		\n				\n						\n					\n			\n						\n						\n					\n			\n						\n				\n																										\n				\n					\n		\n				\n			\n						\n				\n			Alba Maldonado Martínez		\n				\n				\n				\n					\n			\n							\n					\n						\n		\n				\n				\n				\n				\n							Formación: Sexóloga\, Terapeuta psicocorporal\, facilitadora de Tantra.Experiencia: Facilitadora de Tantra y Sexualidad Consciente. Desde 2005 imparto talleres relacionados con la Educación Sexual y la Igualdad de género.Ciudad/Provincia: GranadaEmail: Alalbaseoxologia@gmail.comTeléfono: +34 640 169 200Idioma:  Español. 						\n				\n					\n		\n					\n		\n					\n		\n					\n		\n				\n						\n					\n			\n						\n						\n					\n			\n						\n				\n																										\n				\n					\n		\n				\n			\n						\n				\n			MARIU NIRAM		\n				\n				\n				\n					\n			\n							\n					\n						\n		\n				\n				\n				\n				\n							Formación: Facilitadora de Tantra y Sexualidad Consciente\, Terapeuta Sexual\, Facilitadora de Breathwork\, Terapeuta energética y Psicodramatista.     Ofrezco: Talleres y Retiros de Tantra. Terapia Sexual presencial y Online. Acompañamiento a Parejas Ciudad/Provincia: Málaga y Granada.Teléfono: +34 603 360 458Instagram: @NiramtantraIdioma: Castellano
URL:https://tantrayamorconsciente.com/calendario-de-taller-cursos-y-formaciones-de-tantra/sexualidad-amor-y-consciencia-25-y-26-de-marzo-en-madrid/
LOCATION:Espacio la Ventana.\, C/ de Rascón 21\, Madrid\, Madrid\, 28019\, España
CATEGORIES:Taller de Tantra presencial
ATTACH;FMTTYPE=image/webp:https://tantrayamorconsciente.com/wp-content/uploads/2022/04/Sexualidas-amor-y-consciencia-Taller-tantra-curso-tantra-formacion-tantra-hari-dass-1.webp
ORGANIZER;CN="Silvia Oliveras":MAILTO:silvia@tantrayamorconsciente.com
END:VEVENT
END:VCALENDAR