BEGIN:VCALENDAR
VERSION:2.0
PRODID:-//Tantra y Amor Consciente - ECPv6.3.7//NONSGML v1.0//EN
CALSCALE:GREGORIAN
METHOD:PUBLISH
X-WR-CALNAME:Tantra y Amor Consciente
X-ORIGINAL-URL:https://tantrayamorconsciente.com
X-WR-CALDESC:Eventos para Tantra y Amor Consciente
REFRESH-INTERVAL;VALUE=DURATION:PT1H
X-Robots-Tag:noindex
X-PUBLISHED-TTL:PT1H
BEGIN:VTIMEZONE
TZID:Europe/Madrid
BEGIN:DAYLIGHT
TZOFFSETFROM:+0100
TZOFFSETTO:+0200
TZNAME:CEST
DTSTART:20260329T010000
END:DAYLIGHT
BEGIN:STANDARD
TZOFFSETFROM:+0200
TZOFFSETTO:+0100
TZNAME:CET
DTSTART:20261025T010000
END:STANDARD
END:VTIMEZONE
BEGIN:VEVENT
DTSTART;TZID=Europe/Madrid:20260306T180000
DTEND;TZID=Europe/Madrid:20260308T180000
DTSTAMP:20260424T185628
CREATED:20251006T102531Z
LAST-MODIFIED:20251015T171422Z
UID:69175-1772820000-1772992800@tantrayamorconsciente.com
SUMMARY:TALLER DE TANTRA EN TARRAGONA: EN GOZOSA UNIÓN - SOLO PAREJAS. 6 AL 8 DE MARZO
DESCRIPTION:Estado de este taller: PLAZAS LIBRES.\nYa puedes inscribirte en este taller.		\n				\n					\n		\n					\n		\n				\n							\n							\n					\n			\n						\n				\n			TALLER DE TANTRA		\n				\n				\n				\n			En Gozosa Unión es una excelente oportunidad para las parejas de conectar y disfrutar\, a través de la intimidad sexual tántrica y expandiendo vuestra relación a nuevos horizontes.\nDescubre los secretos sexuales que transformarán tu vida. 		\n				\n				\n				\n			¿Te has preguntado alguna vez cual es el poder de tu energía sexual si estuviese unida a una consciencia superior?\n\n¿Te imaginas que hubiera pasado si hubieses recibido una educación sexual y amorosa positiva?\n\n¿Crees que vivir una sexualidad satisfactoria y una relación de pareja llena de conexión es posible? 		\n				\n					\n		\n					\n		\n		\n					\n				\n				\n																										\n				\n					\n				\n				\n						\n					\n			\n						\n				\n																										\n				\n					\n		\n					\n		\n				\n							\n							\n					\n			\n						\n				\n			¿Te has preguntado alguna vez cual es el poder de tu energía sexual si estuviese unida a una consciencia superior?\n\n¿Te imaginas que hubiera pasado si hubieses recibido una educación sexual y amorosa positiva?\n\n¿Crees que vivir una sexualidad satisfactoria y una relación de pareja llena de conexión es posible? 		\n				\n					\n		\n					\n		\n				\n							\n							\n					\n			\n						\n				\n			El Tantra Yoga de la mano izquierda (Vama Marga) es un antiguo sistema espiritual en el que el amor sexual se considera un sacramento y el cuerpo un templo. De los muchos caminos yóguicos\, es de los pocos que ofrece una alternativa al celibato y en vez de renunciar al sexo\, se utiliza para evolucionar\, sin renunciar a la liberación (Moksha) ni al gozo (Kama). Es un camino donde los dos miembros de la pareja se vuelven Uno utilizando el acto sexual para convertirlo en una meditación en la que todo el cuerpo se convierte en un instrumento para sentir e incrementar el amor. 		\n				\n				\n				\n			El objetivo de la práctica tántrica no es sólo un mejor sexo\, se trata de Unión. La palabra sánscrita Yoga significa Unión. Unión en ti\, con el otro y con el Todo.\nUna práctica que aumenta la intimidad y la conexión\, honrando lo divino en cada uno de nosotros\, despertando y ascendiendo nuestra energía sexual para encontrar la transformación. 		\n				\n					\n		\n					\n		\n				\n						\n					\n			\n						\n				\n			EL PLACER ES BIENVENIDO\, LA UNIÓN PUEDE SER GOZOSA		\n				\n					\n		\n					\n		\n		\n					\n				\n				\n							\n\n										\n						\n							\n								\n																		\n																		\n											\n																		\n\n									\n								\n							\n						\n					\n										\n									\n								\n\n										\n						\n							\n								\n																		\n																		\n											\n																		\n\n									\n								\n							\n						\n					\n										\n									\n								\n\n										\n						\n							\n								\n																		\n																		\n											\n																		\n\n									\n								\n							\n						\n					\n										\n									\n								\n\n										\n						\n							\n								\n																		\n																		\n											\n																		\n\n									\n								\n							\n						\n					\n										\n									\n								\n\n										\n						\n							\n								\n																		\n																		\n											\n																		\n\n									\n								\n							\n						\n					\n										\n									\n								\n\n										\n						\n							\n								\n																		\n																		\n											\n																		\n\n									\n								\n							\n						\n					\n										\n									\n								\n\n										\n						\n							\n								\n																		\n																		\n											\n																		\n\n									\n								\n							\n						\n					\n										\n									\n								\n\n										\n						\n							\n								\n																		\n																		\n											\n																		\n\n									\n								\n							\n						\n					\n										\n									\n						\n				\n				\n				\n				\n							\n\n										\n						\n							\n								\n																		\n																		\n											\n																		\n\n									\n								\n							\n						\n					\n										\n									\n								\n\n										\n						\n							\n								\n																		\n																		\n											\n																		\n\n									\n								\n							\n						\n					\n										\n									\n								\n\n										\n						\n							\n								\n																		\n																		\n											\n																		\n\n									\n								\n							\n						\n					\n										\n									\n								\n\n										\n						\n							\n								\n																		\n																		\n											\n																		\n\n									\n								\n							\n						\n					\n										\n									\n								\n\n										\n						\n							\n								\n																		\n																		\n											\n																		\n\n									\n								\n							\n						\n					\n										\n									\n								\n\n										\n						\n							\n								\n																		\n																		\n											\n																		\n\n									\n								\n							\n						\n					\n										\n									\n						\n				\n				\n					\n				\n				\n						\n					\n			\n						\n				\n					\n			\n		\n				\n				\n				\n				\n			CÓMO TÚ YA SABES\, NO HAS RECIBIDO UNA BUENA EDUCACIÓN SEXUAL NI AFECTIVA.AHORA HA LLEGADO EL MOMENTO DE DESCUBRIR CÓMO HACER EL AMOR DE UNA FORMA DIFERENTE Y MÁGICA.		\n				\n					\n		\n					\n		\n		\n					\n				\n				\n					\n			\n		\n				\n				\n					\n				\n				\n							\n							\n					\n			\n						\n				\n																										\n				\n					\n		\n				\n			\n					\n						\n				\n			EN ESTE \nTALLER DE TANTRA		\n				\n				\n				\n					\n							\n											\n													\n										Consigue pasar de la frustración a la satisfacción sexual.\n									\n								\n											\n													\n										Prácticas individuales para preparar tu cuerpo\, tu mente y tu energía para la experiencia tántrica sexual.\n									\n								\n											\n													\n										Rituales muy poderosos y transformadores íntimos en pareja que te sorprenderán y serán puertas a grandes experiencias y aprendizajes.\n									\n								\n											\n													\n										La sublimación y transmutación de la energía sexual.\n									\n								\n											\n													\n										Mantras\, sonidos para la transformación.\n									\n								\n											\n													\n										Preguntas y respuestas.\n									\n								\n											\n													\n										Resuelve tu falta de educación sexual al mismo tiempo que abres tu corazón a una relación de pareja más profunda.\n									\n						\n				\n				\n					\n		\n					\n		\n				\n							\n							\n					\n			\n					\n						\n				\n																										\n				\n				\n				\n			EN ESTE \nTALLER DE TANTRA		\n				\n				\n				\n					\n							\n											\n													\n										Consigue pasar de la frustración a la satisfacción sexual.\n									\n								\n											\n													\n										Prácticas individuales para preparar tu cuerpo\, tu mente y tu energía para la experiencia tántrica sexual.\n									\n								\n											\n													\n										Rituales muy poderosos y transformadores íntimos en pareja que te sorprenderán y serán puertas a grandes experiencias y aprendizajes.\n									\n								\n											\n													\n										La sublimación y transmutación de la energía sexual.\n									\n								\n											\n													\n										Mantras\, sonidos para la transformación.\n									\n								\n											\n													\n										Preguntas y respuestas.\n									\n								\n											\n													\n										Resuelve tu falta de educación sexual al mismo tiempo que abres tu corazón a una relación de pareja más profunda.\n									\n						\n				\n				\n					\n		\n					\n		\n				\n						\n					\n			\n						\n				\n			Este taller va a ser muy práctico y poco teórico porque es la práctica lo que causa la transformación.		\n				\n					\n		\n					\n		\n		\n					\n				\n				\n					\n			\n		\n				\n				\n					\n				\n				\n							\n							\n					\n			\n					\n						\n				\n					\n\n						\n				\n								\n			\n			\n						\n\n									\n						\n							NIVEL DE INTIMIDAD						\n					\n				\n									\n						Total. \nSolo para parejas o amigos con ese nivel de intimidad\n					 \n				\n			\n			\n		\n				\n				\n					\n		\n				\n			\n					\n						\n				\n					\n\n						\n				\n								\n			\n			\n						\n\n									\n						\n							PRECIO						\n					\n				\n									\n						Solicita a nuestra organizadora\nSilvia nuestros precios y descuentos					 \n				\n			\n			\n		\n				\n				\n					\n		\n				\n			\n						\n				\n					\n\n						\n				\n								\n			\n			\n						\n\n									\n						\n							FECHA						\n					\n				\n									\n						Del 2 al 4 de Octubre de 2026\nTaller de fin de semana 					 \n				\n			\n			\n		\n				\n				\n					\n		\n					\n		\n				\n							\n							\n					\n			\n						\n				\n					\n\n						\n				\n								\n			\n			\n						\n\n									\n						\n							HORARIO						\n					\n				\n									\n						Desde el viernes a las 18h \nhasta el domingo a las 18h					 \n				\n			\n			\n		\n				\n				\n					\n		\n				\n			\n						\n				\n					\n\n						\n				\n								\n			\n			\n						\n\n									\n						\n							LUGAR						\n					\n				\n									\n						Jardín del Alma\nSalcedillo (Brañosera)\nPALENCIA					 \n				\n			\n			\n		\n				\n				\n					\n		\n				\n			\n						\n				\n					\n\n						\n				\n								\n			\n			\n						\n\n									\n						\n							QUÉ TRAER						\n					\n				\n									\n						Os lo enviaremos una semana \nantes del inicio del taller\n\n					 \n				\n			\n			\n		\n				\n				\n					\n		\n					\n		\n		\n					\n		\n				\n				\n			IMPARTE 		\n				\n				\n				\n			Hari Dass 		\n				\n				\n				\n					\n			\n						\n									Currículum\n					\n					\n		\n				\n				\n				\n				\n				\n																										\n				\n					\n				\n		\n					\n				\n				\n			IMPARTE 		\n				\n				\n				\n			Hari Dass 		\n				\n				\n				\n																										\n				\n				\n				\n					\n			\n						\n									Currículum\n					\n					\n		\n				\n				\n					\n				\n		\n					\n				\n				\n					\n			\n		\n				\n				\n					\n				\n				\n							\n							\n					\n			\n						\n				\n			¡EL SEXO PUEDE DEJAR DE SER SIMPLEMENTE SEXO Y PASAR A SER AMOR\, CONSCIENCIA\, LIBERTAD\, TERNURA\, SANACIÓN\, ALEGRÍA\, PASIÓN\, MAGIA Y TRANSFORMACIÓN! 		\n				\n					\n		\n					\n		\n				\n						\n					\n			\n						\n				\n					\n			\n		\n				\n				\n					\n		\n					\n		\n				\n						\n					\n			\n					\n						\n				\n							Silvia OliverasTeléfono: 697 738 177Horario de atención telefónica: de lunes a viernes de 9h a 17h.Email: silvia@tantrayamorconsciente.com 						\n				\n					\n		\n					\n		\n				\n						\n					\n			\n					\n						\n				\n			MÁS INFORMACIÓN / INSCRIPCIONES		\n				\n				\n				\n							Silvia OliverasTeléfono: 697 738 177Horario de atención telefónica: de lunes a viernes de 9h a 17h.Email:silvia@tantrayamorconsciente.com 						\n				\n					\n		\n					\n		\n		\n					\n				\n				\n					\n			\n		\n				\n				\n					\n				\n				\n						\n					\n			\n							\n		\n				\n			\n						\n				\n							\n\n  \n\n\n\n\n\n\n\n\n\n\n\n\n	INVITA A UN@ AMIG@\n	 \n	Solo tienes que rellenar este pequeño formulario.\n	 \n	\n		\n		 \n		\n		 \n		\n		 \n	\n	\n		\n		 \n		\n		 \n	\n\n\n\n 						\n				\n					\n		\n				\n			\n							\n		\n					\n		\n				\n						\n					\n			\n						\n				\n																										\n				\n					\n		\n					\n		\n		\n					\n				\n				\n					\n			\n		\n				\n				\n					\n				\n				\n						\n					\n			\n						\n				\n			¡EL AMOR Y EL PLACER QUE ANHELAS ESTÁN AQUÍ\, TE ESPERAMOS		\n				\n					\n		\n					\n		\n		\n					\n				\n				\n					\n			\n		\n				\n				\n					\n				\n				\n							\n							\n					\n			\n					\n						\n				\n			Este curso de Tantra Compasión y Éxtasis está diseñado para proporcionar información sobre el Tantra Yoga y la Sexualidad Sagrada enseñado por Tantra y Amor Consciente®		\n				\n				\n				\n					\n			\n		\n				\n				\n				\n				\n							Este taller de Tantra Compasión y Éxtasis se toma con el entendimiento de que sus profesores y ayudantes no se dedican a la prestación de servicios profesionales médicos\, psicológicos o de otro tipo. Si se requiere asistencia médica o de otro experto\, por favor busque los servicios de un profesional competente. El propósito es informar y educar según las enseñanzas espirituales del Tantra a las personas interesadas en ello. Al ser todas las actividades opcionales y voluntarias\, no nos responsabilizamos con respecto a cualquier pérdida o daño causado directa o indirectamente por la información o la asistencia a estos cursos\, tomando todos los participantes responsabilidad de sus acciones. Si tienes alguna duda puedes acceder de este enlace a nuestras preguntas frecuentes.
URL:https://tantrayamorconsciente.com/calendario-de-taller-cursos-y-formaciones-de-tantra/taller-de-tantra-en-tarragona-en-gozosa-union-solo-parejas-6-al-8-de-marzo/
LOCATION:Mont-ral.\, Tarragona\, España
CATEGORIES:Taller de Tantra Online
ATTACH;FMTTYPE=image/png:https://tantrayamorconsciente.com/wp-content/uploads/2024/10/EN-GOZOSA-UNION.png
ORGANIZER;CN="Silvia Oliveras":MAILTO:silvia@tantrayamorconsciente.com
END:VEVENT
END:VCALENDAR